BEGIN:VCALENDAR
VERSION:2.0
PRODID:-//CSC &quot;La Maison pour Tous du pays mélusin&quot; - ECPv6.0.3.1//NONSGML v1.0//EN
CALSCALE:GREGORIAN
METHOD:PUBLISH
X-WR-CALNAME:CSC &quot;La Maison pour Tous du pays mélusin&quot;
X-ORIGINAL-URL:http://mptmelusine.fr
X-WR-CALDESC:Events for CSC &quot;La Maison pour Tous du pays mélusin&quot;
REFRESH-INTERVAL;VALUE=DURATION:PT1H
X-Robots-Tag:noindex
X-PUBLISHED-TTL:PT1H
BEGIN:VTIMEZONE
TZID:Europe/Paris
BEGIN:DAYLIGHT
TZOFFSETFROM:+0100
TZOFFSETTO:+0200
TZNAME:CEST
DTSTART:20260329T010000
END:DAYLIGHT
BEGIN:STANDARD
TZOFFSETFROM:+0200
TZOFFSETTO:+0100
TZNAME:CET
DTSTART:20261025T010000
END:STANDARD
END:VTIMEZONE
BEGIN:VEVENT
DTSTART;TZID=Europe/Paris:20260422T103000
DTEND;TZID=Europe/Paris:20260422T120000
DTSTAMP:20260422T020731
CREATED:20260327T095343Z
LAST-MODIFIED:20260327T095343Z
UID:6561-1776853800-1776859200@mptmelusine.fr
SUMMARY:Eveil à l'ânature - Jazeneuil
DESCRIPTION:Atelier ludique de découverte de l’âne et de son environnement. Petite balade à pied avec les ânes. Les enfants s’éclatent et les (grands-)parents adorent ! \nRDV 10h30 à « La Belle Ânée » 2 Puy Godet à Jazeneuil (durée : 1h30 env.). Tarif : 10€/enfant (3 à 11 ans)\, 5€/adulte. Bonnes chaussures recommandées. \nRéservation https://urlz.fr/uURb
URL:http://mptmelusine.fr/event/eveil-a-lanature-jazeneuil/
LOCATION:La Belle Anée\, 2 Puy Godet\, Jazeneuil\, 86600\, France
CATEGORIES:Nature
ORGANIZER;CN="La%20Belle%20%C3%82n%C3%A9e":MAILTO:labellanee@gmail.com
END:VEVENT
END:VCALENDAR