BEGIN:VCALENDAR
VERSION:2.0
PRODID:-//CSC &quot;La Maison pour Tous du pays mélusin&quot; - ECPv6.0.3.1//NONSGML v1.0//EN
CALSCALE:GREGORIAN
METHOD:PUBLISH
X-WR-CALNAME:CSC &quot;La Maison pour Tous du pays mélusin&quot;
X-ORIGINAL-URL:http://mptmelusine.fr
X-WR-CALDESC:Events for CSC &quot;La Maison pour Tous du pays mélusin&quot;
REFRESH-INTERVAL;VALUE=DURATION:PT1H
X-Robots-Tag:noindex
X-PUBLISHED-TTL:PT1H
BEGIN:VTIMEZONE
TZID:Europe/Paris
BEGIN:DAYLIGHT
TZOFFSETFROM:+0100
TZOFFSETTO:+0200
TZNAME:CEST
DTSTART:20250330T010000
END:DAYLIGHT
BEGIN:STANDARD
TZOFFSETFROM:+0200
TZOFFSETTO:+0100
TZNAME:CET
DTSTART:20251026T010000
END:STANDARD
END:VTIMEZONE
BEGIN:VEVENT
DTSTART;TZID=Europe/Paris:20251018T150000
DTEND;TZID=Europe/Paris:20251018T170000
DTSTAMP:20260423T031758
CREATED:20251013T064317Z
LAST-MODIFIED:20251013T064317Z
UID:5872-1760799600-1760806800@mptmelusine.fr
SUMMARY:Visite guidée de Lusignan
DESCRIPTION:L’association Les Lusignan et Mélusine organise une visite guidée de Lusignan le samedi 18 octobre à 15h00. Tarif : 5 €/personne. \nInscription obligatoire au 06.43.10.83.17 ou leslusignanmelusine@gmail.com avant le 17 octobre \nDépart de la Maison d’Information Touristique\, place du Bail\, à Lusignan.
URL:http://mptmelusine.fr/event/visite-guidee-de-lusignan/
LOCATION:Salle Mélusine place du bail\, place du bail\, Lusignan\, 86600\, France
CATEGORIES:Balades
ORGANIZER;CN="Les%20Lusignan%20et%20M%C3%A9lusine":MAILTO:leslusignanmelusine@gmail.com
END:VEVENT
END:VCALENDAR