BEGIN:VCALENDAR
VERSION:2.0
PRODID:-//CSC &quot;La Maison pour Tous du pays mélusin&quot; - ECPv6.0.3.1//NONSGML v1.0//EN
CALSCALE:GREGORIAN
METHOD:PUBLISH
X-ORIGINAL-URL:http://mptmelusine.fr
X-WR-CALDESC:Events for CSC &quot;La Maison pour Tous du pays mélusin&quot;
REFRESH-INTERVAL;VALUE=DURATION:PT1H
X-Robots-Tag:noindex
X-PUBLISHED-TTL:PT1H
BEGIN:VTIMEZONE
TZID:Europe/Paris
BEGIN:DAYLIGHT
TZOFFSETFROM:+0100
TZOFFSETTO:+0200
TZNAME:CEST
DTSTART:20250330T010000
END:DAYLIGHT
BEGIN:STANDARD
TZOFFSETFROM:+0200
TZOFFSETTO:+0100
TZNAME:CET
DTSTART:20251026T010000
END:STANDARD
END:VTIMEZONE
BEGIN:VEVENT
DTSTART;TZID=Europe/Paris:20250330T143000
DTEND;TZID=Europe/Paris:20250330T180000
DTSTAMP:20260424T114000
CREATED:20250324T143620Z
LAST-MODIFIED:20250324T143620Z
UID:5167-1743345000-1743357600@mptmelusine.fr
SUMMARY:Après-midi jeu de société - Jazeneuil
DESCRIPTION:
URL:http://mptmelusine.fr/event/apres-midi-jeu-de-societe-jazeneuil/
LOCATION:salle des fêtes\, Jazeneuil
CATEGORIES:Jeux de société
END:VEVENT
END:VCALENDAR