BEGIN:VCALENDAR
VERSION:2.0
PRODID:-//CSC &quot;La Maison pour Tous du pays mélusin&quot; - ECPv6.0.3.1//NONSGML v1.0//EN
CALSCALE:GREGORIAN
METHOD:PUBLISH
X-WR-CALNAME:CSC &quot;La Maison pour Tous du pays mélusin&quot;
X-ORIGINAL-URL:http://mptmelusine.fr
X-WR-CALDESC:Events for CSC &quot;La Maison pour Tous du pays mélusin&quot;
REFRESH-INTERVAL;VALUE=DURATION:PT1H
X-Robots-Tag:noindex
X-PUBLISHED-TTL:PT1H
BEGIN:VTIMEZONE
TZID:Europe/Paris
BEGIN:DAYLIGHT
TZOFFSETFROM:+0100
TZOFFSETTO:+0200
TZNAME:CEST
DTSTART:20260329T010000
END:DAYLIGHT
BEGIN:STANDARD
TZOFFSETFROM:+0200
TZOFFSETTO:+0100
TZNAME:CET
DTSTART:20261025T010000
END:STANDARD
END:VTIMEZONE
BEGIN:VEVENT
DTSTART;TZID=Europe/Paris:20260409T183000
DTEND;TZID=Europe/Paris:20260409T213000
DTSTAMP:20260421T114942
CREATED:20260327T095139Z
LAST-MODIFIED:20260327T095139Z
UID:6558-1775759400-1775770200@mptmelusine.fr
SUMMARY:Evènement résidence jeux de société - Lusignan
DESCRIPTION:
URL:http://mptmelusine.fr/event/evenement-residence-jeux-de-societe-lusignan/
LOCATION:bibliothèque de Lusignan\, 8 rue Babinet\, Lusignan\, 86600\, France
CATEGORIES:Jeux de société
END:VEVENT
END:VCALENDAR