BEGIN:VCALENDAR
VERSION:2.0
PRODID:-//CSC &quot;La Maison pour Tous du pays mélusin&quot; - ECPv6.0.3.1//NONSGML v1.0//EN
CALSCALE:GREGORIAN
METHOD:PUBLISH
X-ORIGINAL-URL:http://mptmelusine.fr
X-WR-CALDESC:Events for CSC &quot;La Maison pour Tous du pays mélusin&quot;
REFRESH-INTERVAL;VALUE=DURATION:PT1H
X-Robots-Tag:noindex
X-PUBLISHED-TTL:PT1H
BEGIN:VTIMEZONE
TZID:Europe/Paris
BEGIN:DAYLIGHT
TZOFFSETFROM:+0100
TZOFFSETTO:+0200
TZNAME:CEST
DTSTART:20250330T010000
END:DAYLIGHT
BEGIN:STANDARD
TZOFFSETFROM:+0200
TZOFFSETTO:+0100
TZNAME:CET
DTSTART:20251026T010000
END:STANDARD
END:VTIMEZONE
BEGIN:VEVENT
DTSTART;TZID=Europe/Paris:20250801T220000
DTEND;TZID=Europe/Paris:20250801T233000
DTSTAMP:20260424T064100
CREATED:20250710T093938Z
LAST-MODIFIED:20250710T093938Z
UID:5589-1754085600-1754091000@mptmelusine.fr
SUMMARY:"Nuit des étoiles" à Maisoncelle - Lusignan
DESCRIPTION:
URL:http://mptmelusine.fr/event/nuit-des-etoiles-a-maisoncelle-lusignan/
LOCATION:Ferme Emmaüs Maisoncelle\, Lieu-dit Maisoncelle\, Lusignan\, 86600\, France
CATEGORIES:Nature
ORGANIZER;CN="La%20ferme%20Emma%C3%BCs%20de%20Maisoncelle":MAILTO:contact@emmaus-maisoncelle.fr &lt;contact@emmaus-maisoncelle.fr
END:VEVENT
END:VCALENDAR