BEGIN:VCALENDAR
VERSION:2.0
PRODID:-//CSC &quot;La Maison pour Tous du pays mélusin&quot; - ECPv6.0.3.1//NONSGML v1.0//EN
CALSCALE:GREGORIAN
METHOD:PUBLISH
X-ORIGINAL-URL:http://mptmelusine.fr
X-WR-CALDESC:Events for CSC &quot;La Maison pour Tous du pays mélusin&quot;
REFRESH-INTERVAL;VALUE=DURATION:PT1H
X-Robots-Tag:noindex
X-PUBLISHED-TTL:PT1H
BEGIN:VTIMEZONE
TZID:Europe/Paris
BEGIN:DAYLIGHT
TZOFFSETFROM:+0100
TZOFFSETTO:+0200
TZNAME:CEST
DTSTART:20250330T010000
END:DAYLIGHT
BEGIN:STANDARD
TZOFFSETFROM:+0200
TZOFFSETTO:+0100
TZNAME:CET
DTSTART:20251026T010000
END:STANDARD
END:VTIMEZONE
BEGIN:VEVENT
DTSTART;TZID=Europe/Paris:20250523T140000
DTEND;TZID=Europe/Paris:20250525T170000
DTSTAMP:20260424T134017
CREATED:20250424T071815Z
LAST-MODIFIED:20250424T071815Z
UID:5319-1748008800-1748192400@mptmelusine.fr
SUMMARY:La fête de la nature - Rouillé
DESCRIPTION:Evènement gratuit\, au cœur de Rouillé !
URL:http://mptmelusine.fr/event/la-fete-de-la-nature-rouille/
CATEGORIES:Nature
ORGANIZER;CN="Mairie%20de%20Rouill%C3%A9":MAILTO:contact@rouille.fr
END:VEVENT
END:VCALENDAR