BEGIN:VCALENDAR
VERSION:2.0
PRODID:-//CSC &quot;La Maison pour Tous du pays mélusin&quot; - ECPv6.0.3.1//NONSGML v1.0//EN
CALSCALE:GREGORIAN
METHOD:PUBLISH
X-WR-CALNAME:CSC &quot;La Maison pour Tous du pays mélusin&quot;
X-ORIGINAL-URL:http://mptmelusine.fr
X-WR-CALDESC:Events for CSC &quot;La Maison pour Tous du pays mélusin&quot;
REFRESH-INTERVAL;VALUE=DURATION:PT1H
X-Robots-Tag:noindex
X-PUBLISHED-TTL:PT1H
BEGIN:VTIMEZONE
TZID:Europe/Paris
BEGIN:DAYLIGHT
TZOFFSETFROM:+0100
TZOFFSETTO:+0200
TZNAME:CEST
DTSTART:20260329T010000
END:DAYLIGHT
BEGIN:STANDARD
TZOFFSETFROM:+0200
TZOFFSETTO:+0100
TZNAME:CET
DTSTART:20261025T010000
END:STANDARD
END:VTIMEZONE
BEGIN:VEVENT
DTSTART;TZID=Europe/Paris:20260322T150000
DTEND;TZID=Europe/Paris:20260322T180000
DTSTAMP:20260423T192617
CREATED:20260119T092735Z
LAST-MODIFIED:20260119T092735Z
UID:6208-1774191600-1774202400@mptmelusine.fr
SUMMARY:Balad'âne ail des ours
DESCRIPTION:Récolte d’ail des ours\, au pas de l’âne\, suivie d’une dégustation. Balade 5 km. Livret recettes offert. \nRDV 15h à « La Belle Ânée » 2 Puy Godet à Jazeneuil (durée : 3heures env.). Tarif : 12€/adulte\, 7€/enfant (4 à 14 ans). Bonnes chaussures recommandées. \nRenseignements 0683560676. Réservation https://urlz.fr/uUR6
URL:http://mptmelusine.fr/event/baladane-ail-des-ours-2/
LOCATION:La Belle Anée\, 2 Puy Godet\, Jazeneuil\, 86600\, France
CATEGORIES:Nature,Sortie (famille ou autre)
ORGANIZER;CN="La%20Belle%20%C3%82n%C3%A9e":MAILTO:labellanee@gmail.com
END:VEVENT
END:VCALENDAR