BEGIN:VCALENDAR
VERSION:2.0
PRODID:-//CSC &quot;La Maison pour Tous du pays mélusin&quot; - ECPv6.0.3.1//NONSGML v1.0//EN
CALSCALE:GREGORIAN
METHOD:PUBLISH
X-ORIGINAL-URL:http://mptmelusine.fr
X-WR-CALDESC:Events for CSC &quot;La Maison pour Tous du pays mélusin&quot;
REFRESH-INTERVAL;VALUE=DURATION:PT1H
X-Robots-Tag:noindex
X-PUBLISHED-TTL:PT1H
BEGIN:VTIMEZONE
TZID:Europe/Paris
BEGIN:DAYLIGHT
TZOFFSETFROM:+0100
TZOFFSETTO:+0200
TZNAME:CEST
DTSTART:20250330T010000
END:DAYLIGHT
BEGIN:STANDARD
TZOFFSETFROM:+0200
TZOFFSETTO:+0100
TZNAME:CET
DTSTART:20251026T010000
END:STANDARD
END:VTIMEZONE
BEGIN:VEVENT
DTSTART;TZID=Europe/Paris:20251004T100000
DTEND;TZID=Europe/Paris:20251004T113000
DTSTAMP:20260422T032127
CREATED:20250929T081612Z
LAST-MODIFIED:20250929T081612Z
UID:5828-1759572000-1759577400@mptmelusine.fr
SUMMARY:TERRITOIRE NUMERIQUE Temps d'échange sur "la captation de l'attention" - Rouillé
DESCRIPTION:
URL:http://mptmelusine.fr/event/territoire-numerique-temps-dechange-sur-la-captation-de-lattention-rouille/
LOCATION:bibliothèque de Rouillé\, 1 Pl. de l'Église\, Rouillé\, 86480
CATEGORIES:Parentalité
ORGANIZER;CN="La%20Maison%20Pour%20Tous":MAILTO:accueil@mptmelusin-csc86.org
END:VEVENT
BEGIN:VEVENT
DTSTART;TZID=Europe/Paris:20251011T090000
DTEND;TZID=Europe/Paris:20251011T120000
DTSTAMP:20260422T032127
CREATED:20250909T085503Z
LAST-MODIFIED:20250909T085503Z
UID:5717-1760173200-1760184000@mptmelusine.fr
SUMMARY:Atelier parents-enfants - Saint-Sauvant
DESCRIPTION:
URL:http://mptmelusine.fr/event/atelier-parents-enfants-saint-sauvant/
LOCATION:Graine d’avenir MAM\, 9 rue d'Aznalcollar\, Saint-Sauvant\, 86600\, France
CATEGORIES:Parentalité
ORGANIZER;CN="Graine%20d%27avenir%20MAM":MAILTO:contact.grainedavenir@gmail.com
END:VEVENT
BEGIN:VEVENT
DTSTART;TZID=Europe/Paris:20251018T103000
DTEND;TZID=Europe/Paris:20251018T123000
DTSTAMP:20260422T032127
CREATED:20250929T081735Z
LAST-MODIFIED:20250929T081735Z
UID:5832-1760783400-1760790600@mptmelusine.fr
SUMMARY:TERRITOIRE NUMERIQUE temps d'échange sur "les fake news" - Saint-Sauvant
DESCRIPTION:
URL:http://mptmelusine.fr/event/territoire-numerique-temps-dechange-sur-les-fake-news-saint-sauvant/
LOCATION:Bibliothèque de Saint Sauvant\, 6 rue du 8 Mai 1945\, SAINT SAUVANT\, 86600\, France
CATEGORIES:Parentalité
ORGANIZER;CN="La%20Maison%20Pour%20Tous":MAILTO:accueil@mptmelusin-csc86.org
END:VEVENT
END:VCALENDAR